BEGIN:VCALENDAR
VERSION:2.0
PRODID:-//Schattenbaum Region - 53 Years - ECPv6.15.20//NONSGML v1.0//EN
CALSCALE:GREGORIAN
METHOD:PUBLISH
X-ORIGINAL-URL:https://schattenbaum.org
X-WR-CALDESC:Events for Schattenbaum Region - 53 Years
REFRESH-INTERVAL;VALUE=DURATION:PT1H
X-Robots-Tag:noindex
X-PUBLISHED-TTL:PT1H
BEGIN:VTIMEZONE
TZID:America/New_York
BEGIN:DAYLIGHT
TZOFFSETFROM:-0500
TZOFFSETTO:-0400
TZNAME:EDT
DTSTART:20250309T070000
END:DAYLIGHT
BEGIN:STANDARD
TZOFFSETFROM:-0400
TZOFFSETTO:-0500
TZNAME:EST
DTSTART:20251102T060000
END:STANDARD
BEGIN:DAYLIGHT
TZOFFSETFROM:-0500
TZOFFSETTO:-0400
TZNAME:EDT
DTSTART:20260308T070000
END:DAYLIGHT
BEGIN:STANDARD
TZOFFSETFROM:-0400
TZOFFSETTO:-0500
TZNAME:EST
DTSTART:20261101T060000
END:STANDARD
BEGIN:DAYLIGHT
TZOFFSETFROM:-0500
TZOFFSETTO:-0400
TZNAME:EDT
DTSTART:20270314T070000
END:DAYLIGHT
BEGIN:STANDARD
TZOFFSETFROM:-0400
TZOFFSETTO:-0500
TZNAME:EST
DTSTART:20271107T060000
END:STANDARD
END:VTIMEZONE
BEGIN:VEVENT
DTSTART;VALUE=DATE:20260701
DTEND;VALUE=DATE:20260702
DTSTAMP:20260419T142826
CREATED:20260120T134929Z
LAST-MODIFIED:20260205T224703Z
UID:5133-1782864000-1782950399@schattenbaum.org
SUMMARY:Concours - Show and Shine
DESCRIPTION:tbd
URL:https://schattenbaum.org/event/concours-show-and-shine/
LOCATION:2780 7th Ave\, Sweetwater\, NJ 08037\, 2780 7th Ave\, Sweetwater\, NJ\, 08037\, United States
CATEGORIES:Concours
END:VEVENT
END:VCALENDAR