BEGIN:VCALENDAR
VERSION:2.0
PRODID:-//Schattenbaum Region - 53 Years - ECPv6.15.20//NONSGML v1.0//EN
CALSCALE:GREGORIAN
METHOD:PUBLISH
X-ORIGINAL-URL:https://schattenbaum.org
X-WR-CALDESC:Events for Schattenbaum Region - 53 Years
REFRESH-INTERVAL;VALUE=DURATION:PT1H
X-Robots-Tag:noindex
X-PUBLISHED-TTL:PT1H
BEGIN:VTIMEZONE
TZID:America/New_York
BEGIN:DAYLIGHT
TZOFFSETFROM:-0500
TZOFFSETTO:-0400
TZNAME:EDT
DTSTART:20250309T070000
END:DAYLIGHT
BEGIN:STANDARD
TZOFFSETFROM:-0400
TZOFFSETTO:-0500
TZNAME:EST
DTSTART:20251102T060000
END:STANDARD
BEGIN:DAYLIGHT
TZOFFSETFROM:-0500
TZOFFSETTO:-0400
TZNAME:EDT
DTSTART:20260308T070000
END:DAYLIGHT
BEGIN:STANDARD
TZOFFSETFROM:-0400
TZOFFSETTO:-0500
TZNAME:EST
DTSTART:20261101T060000
END:STANDARD
BEGIN:DAYLIGHT
TZOFFSETFROM:-0500
TZOFFSETTO:-0400
TZNAME:EDT
DTSTART:20270314T070000
END:DAYLIGHT
BEGIN:STANDARD
TZOFFSETFROM:-0400
TZOFFSETTO:-0500
TZNAME:EST
DTSTART:20271107T060000
END:STANDARD
END:VTIMEZONE
BEGIN:VEVENT
DTSTART;TZID=America/New_York:20260502T070000
DTEND;TZID=America/New_York:20260502T220000
DTSTAMP:20260419T145559
CREATED:20260119T011951Z
LAST-MODIFIED:20260219T052220Z
UID:5112-1777705200-1777759200@schattenbaum.org
SUMMARY:PCA Annual Swap Meet Tour
DESCRIPTION:Meet-up time: 7:00 a.m \nMeet-up location: Wawa 2060 US-130\, Burlington\, NJ 08016 (back lot) \nDepart for Carlisle Fairgrounds: 7:30 am \nCost: $20 per person\, which includes coffee\, breakfast sandwich\, and participation in the Club Convoy. Swap Meet Admission not included. Register for the Schattenbaum Club Convoy at https://clubregistration.net/events/signUp.cfm/event/16936. \nSwap meet tickets must be purchased separately by visiting https://cpa-pca.org/swap or on-site\, in cash. \nThe Club Convoy will be parking through Gate 2\, the Porsche-Only parking area. \nWhether you’re a swap meet veteran or a first-timer\, this is an annual event you can’t miss. The largest event of its kind\, anywhere\, it typically draws 650 vendors\, 1\,000 Porsches\, and over 6\,000 visitors from all over the world. The parking lot alone is worth the price of admission. Every dealer and Porsche packrat in a 250-mile radius bring their odds and ends for sale or swap. Jerry Seinfeld even shows up occasionally! \nNew at the Swap Meet for 2026: \n\nNew Porsche-Only Live\, On-Site Auction\nPorsche Show Field\nPeople’s Choice Concours with new layout\, format\, and awards\n\nQuestions? Email Henry Singer at tour@schattenbaum.org
URL:https://schattenbaum.org/event/pca-annual-swap-meet-tour/
LOCATION:Carlisle Fairgrounds\, 1000 Bryn Mawr Rd\, Carlisle\, 17013\, United States
CATEGORIES:Tours
END:VEVENT
END:VCALENDAR