BEGIN:VCALENDAR
VERSION:2.0
PRODID:-//Schattenbaum Region - 53 Years - ECPv6.15.20//NONSGML v1.0//EN
CALSCALE:GREGORIAN
METHOD:PUBLISH
X-WR-CALNAME:Schattenbaum Region - 53 Years
X-ORIGINAL-URL:https://schattenbaum.org
X-WR-CALDESC:Events for Schattenbaum Region - 53 Years
REFRESH-INTERVAL;VALUE=DURATION:PT1H
X-Robots-Tag:noindex
X-PUBLISHED-TTL:PT1H
BEGIN:VTIMEZONE
TZID:America/New_York
BEGIN:DAYLIGHT
TZOFFSETFROM:-0500
TZOFFSETTO:-0400
TZNAME:EDT
DTSTART:20250309T070000
END:DAYLIGHT
BEGIN:STANDARD
TZOFFSETFROM:-0400
TZOFFSETTO:-0500
TZNAME:EST
DTSTART:20251102T060000
END:STANDARD
BEGIN:DAYLIGHT
TZOFFSETFROM:-0500
TZOFFSETTO:-0400
TZNAME:EDT
DTSTART:20260308T070000
END:DAYLIGHT
BEGIN:STANDARD
TZOFFSETFROM:-0400
TZOFFSETTO:-0500
TZNAME:EST
DTSTART:20261101T060000
END:STANDARD
BEGIN:DAYLIGHT
TZOFFSETFROM:-0500
TZOFFSETTO:-0400
TZNAME:EDT
DTSTART:20270314T070000
END:DAYLIGHT
BEGIN:STANDARD
TZOFFSETFROM:-0400
TZOFFSETTO:-0500
TZNAME:EST
DTSTART:20271107T060000
END:STANDARD
END:VTIMEZONE
BEGIN:VEVENT
DTSTART;VALUE=DATE:20261107
DTEND;VALUE=DATE:20261108
DTSTAMP:20260419T222426
CREATED:20260121T173657Z
LAST-MODIFIED:20260205T224457Z
UID:5155-1794009600-1794095999@schattenbaum.org
SUMMARY:Udvar-Hazy Air & Space Museum Tour
DESCRIPTION:
URL:https://schattenbaum.org/event/udvar-hazy-air-space-museum-tour/
LOCATION:Steven F. Udvar-Hazy Center\, 14390 Air and Space Museum Parkway\, Chantilly\, VA\, 07724\, United States
CATEGORIES:Tours
END:VEVENT
END:VCALENDAR