BEGIN:VCALENDAR
VERSION:2.0
PRODID:-//Schattenbaum Region - 53 Years - ECPv6.15.20//NONSGML v1.0//EN
CALSCALE:GREGORIAN
METHOD:PUBLISH
X-ORIGINAL-URL:https://schattenbaum.org
X-WR-CALDESC:Events for Schattenbaum Region - 53 Years
REFRESH-INTERVAL;VALUE=DURATION:PT1H
X-Robots-Tag:noindex
X-PUBLISHED-TTL:PT1H
BEGIN:VTIMEZONE
TZID:America/New_York
BEGIN:DAYLIGHT
TZOFFSETFROM:-0500
TZOFFSETTO:-0400
TZNAME:EDT
DTSTART:20250309T070000
END:DAYLIGHT
BEGIN:STANDARD
TZOFFSETFROM:-0400
TZOFFSETTO:-0500
TZNAME:EST
DTSTART:20251102T060000
END:STANDARD
BEGIN:DAYLIGHT
TZOFFSETFROM:-0500
TZOFFSETTO:-0400
TZNAME:EDT
DTSTART:20260308T070000
END:DAYLIGHT
BEGIN:STANDARD
TZOFFSETFROM:-0400
TZOFFSETTO:-0500
TZNAME:EST
DTSTART:20261101T060000
END:STANDARD
BEGIN:DAYLIGHT
TZOFFSETFROM:-0500
TZOFFSETTO:-0400
TZNAME:EDT
DTSTART:20270314T070000
END:DAYLIGHT
BEGIN:STANDARD
TZOFFSETFROM:-0400
TZOFFSETTO:-0500
TZNAME:EST
DTSTART:20271107T060000
END:STANDARD
END:VTIMEZONE
BEGIN:VEVENT
DTSTART;VALUE=DATE:20260919
DTEND;VALUE=DATE:20260920
DTSTAMP:20260420T091931
CREATED:20260120T193352Z
LAST-MODIFIED:20260205T224550Z
UID:5143-1789776000-1789862399@schattenbaum.org
SUMMARY:ACCA Museum Tour
DESCRIPTION:
URL:https://schattenbaum.org/event/acca-museum-tour/
LOCATION:ACCA Museum\, 161 Museum Drive\, Hershey\, PA\, 17036\, United States
CATEGORIES:Tours
END:VEVENT
BEGIN:VEVENT
DTSTART;VALUE=DATE:20261003
DTEND;VALUE=DATE:20261005
DTSTAMP:20260420T091931
CREATED:20260120T214435Z
LAST-MODIFIED:20260206T004228Z
UID:5147-1790985600-1791158399@schattenbaum.org
SUMMARY:Drivers Education – NJMP Thunderbolt
DESCRIPTION:Open to all licensed drivers\, age 18 and over. Beginner / Student\, Novice\, Intermediate and Advanced run groups. \nView additional information and register here.
URL:https://schattenbaum.org/event/de-october-2026/
LOCATION:New Jersey Motorsports Park\, 8000 Dividing Creek Rd\, Millville\, NJ\, 08332\, United States
CATEGORIES:Track
END:VEVENT
BEGIN:VEVENT
DTSTART;VALUE=DATE:20261031
DTEND;VALUE=DATE:20261102
DTSTAMP:20260420T091931
CREATED:20260120T214621Z
LAST-MODIFIED:20260206T004247Z
UID:5151-1793404800-1793577599@schattenbaum.org
SUMMARY:Drivers Education – NJMP Thunderbolt
DESCRIPTION:Open to all licensed drivers\, age 18 and over. Beginner / Student\, Novice\, Intermediate and Advanced run groups. \nView additional information and register here.
URL:https://schattenbaum.org/event/de-october-november-2026/
LOCATION:New Jersey Motorsports Park\, 8000 Dividing Creek Rd\, Millville\, NJ\, 08332\, United States
CATEGORIES:Track
END:VEVENT
BEGIN:VEVENT
DTSTART;VALUE=DATE:20261107
DTEND;VALUE=DATE:20261108
DTSTAMP:20260420T091931
CREATED:20260121T173657Z
LAST-MODIFIED:20260205T224457Z
UID:5155-1794009600-1794095999@schattenbaum.org
SUMMARY:Udvar-Hazy Air & Space Museum Tour
DESCRIPTION:
URL:https://schattenbaum.org/event/udvar-hazy-air-space-museum-tour/
LOCATION:Steven F. Udvar-Hazy Center\, 14390 Air and Space Museum Parkway\, Chantilly\, VA\, 07724\, United States
CATEGORIES:Tours
END:VEVENT
BEGIN:VEVENT
DTSTART;VALUE=DATE:20261217
DTEND;VALUE=DATE:20261218
DTSTAMP:20260420T091931
CREATED:20260122T134417Z
LAST-MODIFIED:20260205T224450Z
UID:5160-1797465600-1797551999@schattenbaum.org
SUMMARY:Holiday Party
DESCRIPTION:TBD
URL:https://schattenbaum.org/event/holiday-party/
LOCATION:NJ
CATEGORIES:Social
END:VEVENT
END:VCALENDAR