BEGIN:VCALENDAR
VERSION:2.0
PRODID:-//Schattenbaum Region - 53 Years - ECPv6.15.20//NONSGML v1.0//EN
CALSCALE:GREGORIAN
METHOD:PUBLISH
X-ORIGINAL-URL:https://schattenbaum.org
X-WR-CALDESC:Events for Schattenbaum Region - 53 Years
REFRESH-INTERVAL;VALUE=DURATION:PT1H
X-Robots-Tag:noindex
X-PUBLISHED-TTL:PT1H
BEGIN:VTIMEZONE
TZID:America/New_York
BEGIN:DAYLIGHT
TZOFFSETFROM:-0500
TZOFFSETTO:-0400
TZNAME:EDT
DTSTART:20250309T070000
END:DAYLIGHT
BEGIN:STANDARD
TZOFFSETFROM:-0400
TZOFFSETTO:-0500
TZNAME:EST
DTSTART:20251102T060000
END:STANDARD
BEGIN:DAYLIGHT
TZOFFSETFROM:-0500
TZOFFSETTO:-0400
TZNAME:EDT
DTSTART:20260308T070000
END:DAYLIGHT
BEGIN:STANDARD
TZOFFSETFROM:-0400
TZOFFSETTO:-0500
TZNAME:EST
DTSTART:20261101T060000
END:STANDARD
BEGIN:DAYLIGHT
TZOFFSETFROM:-0500
TZOFFSETTO:-0400
TZNAME:EDT
DTSTART:20270314T070000
END:DAYLIGHT
BEGIN:STANDARD
TZOFFSETFROM:-0400
TZOFFSETTO:-0500
TZNAME:EST
DTSTART:20271107T060000
END:STANDARD
END:VTIMEZONE
BEGIN:VEVENT
DTSTART;VALUE=DATE:20260807
DTEND;VALUE=DATE:20260810
DTSTAMP:20260420T063848
CREATED:20260120T161155Z
LAST-MODIFIED:20260206T004136Z
UID:5136-1786060800-1786319999@schattenbaum.org
SUMMARY:Drivers Education – NJMP Thunderbolt
DESCRIPTION:This DE is for advanced drivers only and is held in conjunction with a PCA Club Race.\nThere will be no instructing\, no students and no novice drivers at this event. \n\nExperienced intermediate drivers (multiple White run group events) will be admitted at the discretion of the registrar.\nStudent drivers and recently signed-off solo drivers will not be accepted at this event.\n\nView additional information and register here.
URL:https://schattenbaum.org/event/de-august-2026/
LOCATION:New Jersey Motorsports Park\, 8000 Dividing Creek Rd\, Millville\, NJ\, 08332\, United States
CATEGORIES:Track
END:VEVENT
BEGIN:VEVENT
DTSTART;VALUE=DATE:20260807
DTEND;VALUE=DATE:20260810
DTSTAMP:20260420T063848
CREATED:20260206T004636Z
LAST-MODIFIED:20260206T004636Z
UID:5244-1786060800-1786319999@schattenbaum.org
SUMMARY:Club Race - Schattenbaum Showdown - NJMP Thunderbolt
DESCRIPTION:
URL:https://schattenbaum.org/event/club-race-schattenbaum-showdown-njmp-thunderbolt/
LOCATION:New Jersey Motorsports Park\, 8000 Dividing Creek Rd\, Millville\, NJ\, 08332\, United States
END:VEVENT
END:VCALENDAR